BEGIN:VCALENDAR
VERSION:2.0
PRODID:-//The Courts Cape Coral - ECPv6.15.20//NONSGML v1.0//EN
CALSCALE:GREGORIAN
METHOD:PUBLISH
X-WR-CALNAME:The Courts Cape Coral
X-ORIGINAL-URL:https://playthecourtscapecoral.com
X-WR-CALDESC:Events for The Courts Cape Coral
REFRESH-INTERVAL;VALUE=DURATION:PT1H
X-Robots-Tag:noindex
X-PUBLISHED-TTL:PT1H
BEGIN:VTIMEZONE
TZID:America/New_York
BEGIN:DAYLIGHT
TZOFFSETFROM:-0500
TZOFFSETTO:-0400
TZNAME:EDT
DTSTART:20250309T070000
END:DAYLIGHT
BEGIN:STANDARD
TZOFFSETFROM:-0400
TZOFFSETTO:-0500
TZNAME:EST
DTSTART:20251102T060000
END:STANDARD
BEGIN:DAYLIGHT
TZOFFSETFROM:-0500
TZOFFSETTO:-0400
TZNAME:EDT
DTSTART:20260308T070000
END:DAYLIGHT
BEGIN:STANDARD
TZOFFSETFROM:-0400
TZOFFSETTO:-0500
TZNAME:EST
DTSTART:20261101T060000
END:STANDARD
BEGIN:DAYLIGHT
TZOFFSETFROM:-0500
TZOFFSETTO:-0400
TZNAME:EDT
DTSTART:20270314T070000
END:DAYLIGHT
BEGIN:STANDARD
TZOFFSETFROM:-0400
TZOFFSETTO:-0500
TZNAME:EST
DTSTART:20271107T060000
END:STANDARD
BEGIN:DAYLIGHT
TZOFFSETFROM:-0500
TZOFFSETTO:-0400
TZNAME:EDT
DTSTART:20280312T070000
END:DAYLIGHT
BEGIN:STANDARD
TZOFFSETFROM:-0400
TZOFFSETTO:-0500
TZNAME:EST
DTSTART:20281105T060000
END:STANDARD
END:VTIMEZONE
BEGIN:VEVENT
DTSTART;VALUE=DATE:20260328
DTEND;VALUE=DATE:20260517
DTSTAMP:20260423T062534
CREATED:20251119T161509Z
LAST-MODIFIED:20260415T201811Z
UID:10000037-1774656000-1778975999@playthecourtscapecoral.com
SUMMARY:Spring Junior Season Tennis &Pickleball Program
DESCRIPTION:
URL:https://playthecourtscapecoral.com/event-detail/spring-junior-season-tennis-pickleball-program/
CATEGORIES:Pickleball,Tennis
ATTACH;FMTTYPE=image/png:https://playthecourtscapecoral.com/wp-content/uploads/2025/11/Website.png
END:VEVENT
BEGIN:VEVENT
DTSTART;VALUE=DATE:20260328
DTEND;VALUE=DATE:20260517
DTSTAMP:20260423T062534
CREATED:20260325T094458Z
LAST-MODIFIED:20260415T145432Z
UID:10000056-1774656000-1778975999@playthecourtscapecoral.com
SUMMARY:Spring Junior Tennis and Pickleball League
DESCRIPTION:
URL:https://playthecourtscapecoral.com/event-detail/spring-junior-tennis-and-pickleball-league/
CATEGORIES:Pickleball,Tennis
ATTACH;FMTTYPE=image/jpeg:https://playthecourtscapecoral.com/wp-content/uploads/2026/03/DSC_0509-scaled-e1776264863614.jpg
END:VEVENT
BEGIN:VEVENT
DTSTART;VALUE=DATE:20260425
DTEND;VALUE=DATE:20260427
DTSTAMP:20260423T062534
CREATED:20260325T100056Z
LAST-MODIFIED:20260415T144109Z
UID:10000060-1777075200-1777247999@playthecourtscapecoral.com
SUMMARY:Tennis and Pickleball Club Championship
DESCRIPTION:
URL:https://playthecourtscapecoral.com/event-detail/tennis-and-pickleball-club-championship/
CATEGORIES:Pickleball
ATTACH;FMTTYPE=image/png:https://playthecourtscapecoral.com/wp-content/uploads/2026/03/Website.png
END:VEVENT
BEGIN:VEVENT
DTSTART;VALUE=DATE:20260505
DTEND;VALUE=DATE:20260506
DTSTAMP:20260423T062534
CREATED:20260317T073731Z
LAST-MODIFIED:20260415T153015Z
UID:10000047-1777939200-1778025599@playthecourtscapecoral.com
SUMMARY:Cinco De Mayo Round Robin/Compass Tournament
DESCRIPTION:
URL:https://playthecourtscapecoral.com/event-detail/cinco-de-maya-round-robin-compass-tournament/
CATEGORIES:Pickleball,Tennis
ATTACH;FMTTYPE=image/png:https://playthecourtscapecoral.com/wp-content/uploads/2026/03/Website-2.png
END:VEVENT
BEGIN:VEVENT
DTSTART;VALUE=DATE:20260516
DTEND;VALUE=DATE:20260517
DTSTAMP:20260423T062534
CREATED:20260317T074317Z
LAST-MODIFIED:20260420T164015Z
UID:10000049-1778889600-1778975999@playthecourtscapecoral.com
SUMMARY:Lee Health Tournament
DESCRIPTION:
URL:https://playthecourtscapecoral.com/event-detail/lee-heatlth-tournament/
CATEGORIES:Pickleball
ATTACH;FMTTYPE=image/png:https://playthecourtscapecoral.com/wp-content/uploads/2026/03/Lee-Health-Logo.png
END:VEVENT
BEGIN:VEVENT
DTSTART;VALUE=DATE:20260516
DTEND;VALUE=DATE:20260517
DTSTAMP:20260423T062534
CREATED:20260325T101757Z
LAST-MODIFIED:20260325T101757Z
UID:10000063-1778889600-1778975999@playthecourtscapecoral.com
SUMMARY:End of Season Junior Tennis/Pickleball Tournament
DESCRIPTION:
URL:https://playthecourtscapecoral.com/event-detail/end-of-season-junior-tennis-pickleball-tournament/
CATEGORIES:Pickleball
ATTACH;FMTTYPE=image/png:https://playthecourtscapecoral.com/wp-content/uploads/2025/11/Rectangle-23-5-1.png
END:VEVENT
BEGIN:VEVENT
DTSTART;VALUE=DATE:20260530
DTEND;VALUE=DATE:20260601
DTSTAMP:20260423T062534
CREATED:20260420T153357Z
LAST-MODIFIED:20260420T161540Z
UID:10000073-1780099200-1780271999@playthecourtscapecoral.com
SUMMARY:USTA L6 May Tennis Junior Tournament
DESCRIPTION:
URL:https://playthecourtscapecoral.com/event-detail/usta-l6-may-tennis-junior-tournament/
CATEGORIES:Tennis
ATTACH;FMTTYPE=image/png:https://playthecourtscapecoral.com/wp-content/uploads/2026/04/USTA-Logo-2.png
END:VEVENT
BEGIN:VEVENT
DTSTART;VALUE=DATE:20260608
DTEND;VALUE=DATE:20260722
DTSTAMP:20260423T062534
CREATED:20260325T102445Z
LAST-MODIFIED:20260411T132400Z
UID:10000066-1780876800-1784678399@playthecourtscapecoral.com
SUMMARY:Summer Junior Tennis and Pickleball Camp 2026
DESCRIPTION:WEEKLY Summer Camp 2026 \nSummer Tennis & Pickleball Camp at The Courts Cape Coral \nWHY PARENTS LOVE THIS CAMP \n\nSafe\, supervised\, and screen-free\nBuilds confidence\, focus & teamwork\nCamp Taught by certified USPTR and PPR Pro’s\nFlexible half-day & full-day options\nAffordable pricing that fits your summer budget\nEarly drop-off and late pickup available!\n\nDATES: Weeks Available From June 8th – July 24th \nAGES: Ages 7 – 18 \nDaily Schedule \n\n8:00 – 9:00AM Early Drop-off (Optional)\n9:00 – 12:00PM Tennis / Pickleball Training\n12:00 – 1:00PM Lunch (Optional)\n1:00 – 3:00PM Tennis/Pickleball Ball Machine / Open Play\n3:00 – 4:00PM Indoor activities\n4:00 – 5:00PM Late Pickup (Optional)\n\nTennis and Pickleball Tournaments | Friday July 24th \nTrophies and Medals awarded | Tournament included in camp price \n3 day full day and half day camps available\n5 day half day camps available \nCost ranges from $90 – $150 \nChoose your dates and register below
URL:https://playthecourtscapecoral.com/event-detail/summer-junior-tennis-and-pickleball-camp-2026/
CATEGORIES:Pickleball,Tennis
ATTACH;FMTTYPE=image/png:https://playthecourtscapecoral.com/wp-content/uploads/2025/11/Rectangle-23-5.png
END:VEVENT
BEGIN:VEVENT
DTSTART;VALUE=DATE:20260627
DTEND;VALUE=DATE:20260629
DTSTAMP:20260423T062534
CREATED:20251119T162201Z
LAST-MODIFIED:20260122T134508Z
UID:10000045-1782518400-1782691199@playthecourtscapecoral.com
SUMMARY:Summer Sizzler Pickleball Tournament
DESCRIPTION:
URL:https://playthecourtscapecoral.com/event-detail/summer-sizzler-pickleball-tournament/
CATEGORIES:Pickleball
ATTACH;FMTTYPE=image/png:https://playthecourtscapecoral.com/wp-content/uploads/2025/11/Rectangle-23-5.png
END:VEVENT
BEGIN:VEVENT
DTSTART;VALUE=DATE:20260718
DTEND;VALUE=DATE:20260720
DTSTAMP:20260423T062534
CREATED:20260325T102921Z
LAST-MODIFIED:20260325T102921Z
UID:10000067-1784332800-1784505599@playthecourtscapecoral.com
SUMMARY:The Courts\, Junior Summer Sizzler Tournament
DESCRIPTION:
URL:https://playthecourtscapecoral.com/event-detail/the-courts-junior-summer-sizzler-tournament/
CATEGORIES:Pickleball
ATTACH;FMTTYPE=image/png:https://playthecourtscapecoral.com/wp-content/uploads/2025/11/Rectangle-23-5-1.png
END:VEVENT
BEGIN:VEVENT
DTSTART;VALUE=DATE:20260912
DTEND;VALUE=DATE:20260914
DTSTAMP:20260423T062534
CREATED:20260317T074510Z
LAST-MODIFIED:20260326T092429Z
UID:10000050-1789171200-1789343999@playthecourtscapecoral.com
SUMMARY:The Courts\, Junior Fall Pickleball Classic Tournament
DESCRIPTION:
URL:https://playthecourtscapecoral.com/event-detail/the-courts-junior-fall-pickleball-classic-tournament/
CATEGORIES:Pickleball
ATTACH;FMTTYPE=image/png:https://playthecourtscapecoral.com/wp-content/uploads/2025/11/Rectangle-23-5.png
END:VEVENT
BEGIN:VEVENT
DTSTART;VALUE=DATE:20260925
DTEND;VALUE=DATE:20260928
DTSTAMP:20260423T062534
CREATED:20260317T074623Z
LAST-MODIFIED:20260420T153139Z
UID:10000051-1790294400-1790553599@playthecourtscapecoral.com
SUMMARY:Fall Classic Pickleball Championship
DESCRIPTION:
URL:https://playthecourtscapecoral.com/event-detail/fall-classic-pickleball-championship/
CATEGORIES:Pickleball
ATTACH;FMTTYPE=image/jpeg:https://playthecourtscapecoral.com/wp-content/uploads/2026/01/output.auto-5.jpg
END:VEVENT
BEGIN:VEVENT
DTSTART;VALUE=DATE:20261010
DTEND;VALUE=DATE:20261011
DTSTAMP:20260423T062534
CREATED:20260317T075017Z
LAST-MODIFIED:20260420T153218Z
UID:10000052-1791590400-1791676799@playthecourtscapecoral.com
SUMMARY:Joe Winslett Tournament
DESCRIPTION:
URL:https://playthecourtscapecoral.com/event-detail/joe-winslett-tournament/
CATEGORIES:Pickleball
ATTACH;FMTTYPE=image/png:https://playthecourtscapecoral.com/wp-content/uploads/2025/11/Rectangle-34.png
END:VEVENT
BEGIN:VEVENT
DTSTART;VALUE=DATE:20261120
DTEND;VALUE=DATE:20261123
DTSTAMP:20260423T062534
CREATED:20260420T153442Z
LAST-MODIFIED:20260420T162517Z
UID:10000074-1795132800-1795391999@playthecourtscapecoral.com
SUMMARY:National Pickleball Tournament
DESCRIPTION:
URL:https://playthecourtscapecoral.com/event-detail/national-pickleball-tournament/
CATEGORIES:Pickleball,Touraments
ATTACH;FMTTYPE=image/png:https://playthecourtscapecoral.com/wp-content/uploads/2026/04/NP-Pickleball-Logo.png
END:VEVENT
BEGIN:VEVENT
DTSTART;VALUE=DATE:20270201
DTEND;VALUE=DATE:20270208
DTSTAMP:20260423T062534
CREATED:20260420T153526Z
LAST-MODIFIED:20260420T163743Z
UID:10000075-1801440000-1802044799@playthecourtscapecoral.com
SUMMARY:PPA Cape Coral Open
DESCRIPTION:
URL:https://playthecourtscapecoral.com/event-detail/ppa-cape-coral-open/
CATEGORIES:Pickleball,Touraments
ATTACH;FMTTYPE=image/png:https://playthecourtscapecoral.com/wp-content/uploads/2026/04/PPA-Logo.png
END:VEVENT
BEGIN:VEVENT
DTSTART;VALUE=DATE:20270320
DTEND;VALUE=DATE:20270322
DTSTAMP:20260423T062534
CREATED:20260420T153558Z
LAST-MODIFIED:20260420T162502Z
UID:10000076-1805500800-1805673599@playthecourtscapecoral.com
SUMMARY:National Pickleball Tournament
DESCRIPTION:
URL:https://playthecourtscapecoral.com/event-detail/national-pickleball-tournament-2/
CATEGORIES:Pickleball,Touraments
ATTACH;FMTTYPE=image/png:https://playthecourtscapecoral.com/wp-content/uploads/2026/04/NP-Pickleball-Logo.png
END:VEVENT
BEGIN:VEVENT
DTSTART;VALUE=DATE:20271119
DTEND;VALUE=DATE:20271122
DTSTAMP:20260423T062534
CREATED:20260420T153632Z
LAST-MODIFIED:20260420T162439Z
UID:10000077-1826582400-1826841599@playthecourtscapecoral.com
SUMMARY:National Pickleball Tournament
DESCRIPTION:
URL:https://playthecourtscapecoral.com/event-detail/national-pickleball-tournament-3/
CATEGORIES:Pickleball,Touraments
ATTACH;FMTTYPE=image/png:https://playthecourtscapecoral.com/wp-content/uploads/2026/04/NP-Pickleball-Logo.png
END:VEVENT
END:VCALENDAR